BEGIN:VCALENDAR
VERSION:2.0
PRODID:https://github.com/derhansen/sf_event_mgt
METHOD:PUBLISH
BEGIN:VEVENT
UID:14858-611@www.maine-et-loire.fr
CLASS: PUBLIC
SUMMARY:Les arbres du parc
DESCRIPTION:Dans le cadre des Rendez-vous nature 2026.\n\nLors d’une bala
 de avec un paysagiste de Sicle, venez en famille emprunter son regard, exp
 érimenter ses pratiques techniques et artistiques en découvrant les arbr
 es du parc de la Garenne. Aimez-vous les arbres ? Nous sont-ils indispensa
 bles ? Apprenez à les regarder, les comprendre pour mieux les protéger. 
 Qu’est-ce qu’une feuille simple, composée, dentée ... ? Qu’est-ce 
 qu’un feuillu, un conifère ? Profitez de leur ombre pour dessiner leurs
  formes, leurs feuilles et apprendre à faire un herbier artistique. Un mo
 ment convivial et d’échanges avec un goûter est prévu. Grâce à ces 
 expériences ludiques et accessibles, vous repartirez avec des clés d’a
 ctions à mettre en place près de chez vous pour préserver la biodiversi
 té.
LOCATION:Parking à l’intersection de la rue la Bruyère et du boulevard Albert Camus
DTSTAMP:20260209T154115Z
DTSTART:20260826T115539Z
DTEND:20260826T115539Z
END:VEVENT
END:VCALENDAR