BEGIN:VCALENDAR
VERSION:2.0
PRODID:https://github.com/derhansen/sf_event_mgt
METHOD:PUBLISH
BEGIN:VEVENT
UID:14854-611@www.maine-et-loire.fr
CLASS: PUBLIC
SUMMARY:Les demoiselles de la nuit
DESCRIPTION:Dans le cadre des Rendez-vous nature 2026.\n\nImmergez-vous au 
 cœur de la nuit, autour du château du Plessis-Macé, pour apprendre, rê
 ver et voler avec les chauves-souris.
LOCATION:Parking du château
DTSTAMP:20260209T153954Z
DTSTART:20260824T115539Z
DTEND:20260824T115539Z
END:VEVENT
END:VCALENDAR