BEGIN:VCALENDAR
VERSION:2.0
PRODID:https://github.com/derhansen/sf_event_mgt
METHOD:PUBLISH
BEGIN:VEVENT
UID:14850-611@www.maine-et-loire.fr
CLASS: PUBLIC
SUMMARY:Les demoiselles de nuit
DESCRIPTION:Dans le cadre des Rendez-vous nature 2026.\n\nAu clair de lune,
  venez découvrir les incroyables mammifères volants de la commune : les 
 chauves-souris. Vous découvrirez leur vie fascinante en bord de Loire.
LOCATION:Espace culturel L'ART.IMAGE
Chemin de Parthenay
DTSTAMP:20260209T153933Z
DTSTART:20260821T115539Z
DTEND:20260821T115539Z
END:VEVENT
END:VCALENDAR