BEGIN:VCALENDAR
VERSION:2.0
PRODID:https://github.com/derhansen/sf_event_mgt
METHOD:PUBLISH
BEGIN:VEVENT
UID:14716-611@www.maine-et-loire.fr
CLASS: PUBLIC
SUMMARY:Les échassiers de Mûrs-Érigné
DESCRIPTION:Dans le cadre des Rendez-vous nature 2026.\n\nLa jeune héronni
 ère des boucles de l’Aubance accueille de nombreuses espèces de héron
 s. Venez les identifier avec une animatrice de la LPO Anjou et comprendre 
 leur mode de vie
LOCATION:Parking Centre Technique Municipal
21 rue des Acacias
DTSTAMP:20260209T152225Z
DTSTART:20260507T115539Z
DTEND:20260507T115539Z
END:VEVENT
END:VCALENDAR