BEGIN:VCALENDAR
VERSION:2.0
PRODID:https://github.com/derhansen/sf_event_mgt
METHOD:PUBLISH
BEGIN:VEVENT
UID:14130-569@www.maine-et-loire.fr
CLASS: PUBLIC
SUMMARY:Les enfants de l'opéra (séance inclusive)
DESCRIPTION:Ils viennent sur scène chanter Noël, la relève de la garde, 
 ou des chants de pastoureaux perdus sur leurs collines. Les enfants sont t
 rès présents, à l’opéra, avec leurs voix frêles mais toujours si en
 têtantes, si émouvantes.\n\nC’est une scène très attendue au premier
  acte de Carmen de Georges Bizet, celle de la « garde montante » chanté
 e par une poignée de gamins des rues. Mais il y a aussi les enfants de ch
 œur entraînés par le sacristain de la Tosca de Giacomo Puccini, les pet
 its frères et sœurs de Charlotte dans le Werther de Jules Massenet, ou e
 ncore ceux qui, dans Faisons un opéra, l’ouvrage de Benjamin Britten, p
 rennent sous leur protection un jeune ramoneur. Les Maîtrises de la Perve
 rie, à Nantes, et des Pays de la Loire, à Angers, nous proposent de parc
 ourir leurs répertoires favoris, depuis les jolies pages que leur a dédi
 ées le jeune Wolfgang Amadeus Mozart jusqu’à l’irrésistible Mélodi
 e du bonheur de Richard Rodgers et Oscar Hammerstein.
LOCATION:Grand Théâtre
Place du ralliement
DTSTAMP:20251031T083115Z
DTSTART:20260601T220000Z
DTEND:20260601T220000Z
END:VEVENT
END:VCALENDAR