BEGIN:VCALENDAR
VERSION:2.0
PRODID:https://github.com/derhansen/sf_event_mgt
METHOD:PUBLISH
BEGIN:VEVENT
UID:14841-611@www.maine-et-loire.fr
CLASS: PUBLIC
SUMMARY:Les mammifères ailés
DESCRIPTION:Dans le cadre des Rendez-vous nature 2026.\n\nUne mystérieuse 
 colonie de mammifères volants a élu domicile sous la place Farcy. Au cœ
 ur de la nuit, écoutez-les et faites leur connaissance avec la LPO. Vous 
 serez incollables sur les chauves-souris !\n\nVenir avec une lampe de poch
 e.
LOCATION:Horloge du parc Balzac
DTSTAMP:20260209T153827Z
DTSTART:20260818T115539Z
DTEND:20260818T115539Z
END:VEVENT
END:VCALENDAR