BEGIN:VCALENDAR
VERSION:2.0
PRODID:https://github.com/derhansen/sf_event_mgt
METHOD:PUBLISH
BEGIN:VEVENT
UID:14702-611@www.maine-et-loire.fr
CLASS: PUBLIC
SUMMARY:Les oiseaux des Douets
DESCRIPTION:Dans le cadre des Rendez-vous nature 2026.\n\nLa Boire des Doue
 ts, cachée dans sa forêt alluviale, abrite une multitude d'oiseaux. Acco
 mpagné d'un ornithologue du Conservatoire, venez les écouter, les observ
 er, en apprendre plus sur leurs mœurs et chants au cœur d'un espace pré
 servé.
LOCATION:Aire de pique-nique Les Petites Plaines
DTSTAMP:20260209T151312Z
DTSTART:20260425T115539Z
DTEND:20260425T115539Z
END:VEVENT
END:VCALENDAR