BEGIN:VCALENDAR
VERSION:2.0
PRODID:https://github.com/derhansen/sf_event_mgt
METHOD:PUBLISH
BEGIN:VEVENT
UID:14819-611@www.maine-et-loire.fr
CLASS: PUBLIC
SUMMARY:Les petites bêtes de l'eau
DESCRIPTION:Dans le cadre des Rendez-vous nature 2026.\n\nMunis d’épuise
 ttes, partez à la découverte des petites créatures aquatiques qui peupl
 ent l’étang de Saint-Aubin. Cette animation permet d’apprendre à ide
 ntifier les insectes et animaux des eaux douces tout en sensibilisant à l
 a protection des milieux aquatiques.
LOCATION:Base de loisir
23 rue des étangs
Pouancé
DTSTAMP:20260209T153537Z
DTSTART:20260715T115539Z
DTEND:20260715T115539Z
END:VEVENT
END:VCALENDAR