BEGIN:VCALENDAR
VERSION:2.0
PRODID:https://github.com/derhansen/sf_event_mgt
METHOD:PUBLISH
BEGIN:VEVENT
UID:14843-611@www.maine-et-loire.fr
CLASS: PUBLIC
SUMMARY:Les petites bêtes de l'étang
DESCRIPTION:Dans le cadre des Rendez-vous nature 2026.\n\nMunis d'une épui
 sette et d'un seau, partez à la découverte des petites bêtes de l'étan
 g de Montayer. Aurez-vous la chance d'observer larves, dytiques et autres 
 invertébrés ?\n\nLes enfants doivent obligatoirement être accompagnés 
 par un adulte.
LOCATION:Maison Pêche Nature
DTSTAMP:20260209T153837Z
DTSTART:20260819T115539Z
DTEND:20260819T115539Z
END:VEVENT
END:VCALENDAR