BEGIN:VCALENDAR
VERSION:2.0
PRODID:https://github.com/derhansen/sf_event_mgt
METHOD:PUBLISH
BEGIN:VEVENT
UID:14838-611@www.maine-et-loire.fr
CLASS: PUBLIC
SUMMARY:Les petites bêtes du Loir
DESCRIPTION:Dans le cadre des Rendez-vous nature 2026.\n\nMunis d'une épui
 sette et d'un seau, partez à la découverte des petites bêtes du Loir. A
 urez-vous la chance d'observer larves, dytiques et autres invertébrés ?\
 n\nLes enfants doivent obligatoirement être accompagnés par un adulte. M
 erci de prévoir une paire de bottes.
LOCATION:Parking du port
DTSTAMP:20260209T153811Z
DTSTART:20260813T115539Z
DTEND:20260813T115539Z
END:VEVENT
END:VCALENDAR