BEGIN:VCALENDAR
VERSION:2.0
PRODID:https://github.com/derhansen/sf_event_mgt
METHOD:PUBLISH
BEGIN:VEVENT
UID:14884-611@www.maine-et-loire.fr
CLASS: PUBLIC
SUMMARY:Les plantes allergènes
DESCRIPTION:Dans le cadre des Rendez-vous nature 2026.\n\nBalade botanique 
 sur l’Île Briand pour repérer les plantes allergènes, notamment les g
 raminées, comprendre leurs impacts et découvrir quelles espèces choisir
  pour un jardin plus sain.
LOCATION:Parking visiteur placette en forme de fer à cheval
DTSTAMP:20260209T154349Z
DTSTART:20260925T115540Z
DTEND:20260925T115540Z
END:VEVENT
END:VCALENDAR