BEGIN:VCALENDAR
VERSION:2.0
PRODID:https://github.com/derhansen/sf_event_mgt
METHOD:PUBLISH
BEGIN:VEVENT
UID:13697-570@www.maine-et-loire.fr
CLASS: PUBLIC
SUMMARY:Les P'tits Swing chantent le jazz
DESCRIPTION:Sur les musiques du jazzman et compositeur Stan Laferrière, la
  Maîtrise des Pays de la Loire accompagné d'un big band interprètent de
 s chansons jazz avec humour, tendresse et swing.
LOCATION:Théâtre Chanzy
30 avenue de Chanzy
DTSTAMP:20250625T073708Z
DTSTART:20260506T220000Z
DTEND:20260506T220000Z
END:VEVENT
END:VCALENDAR