BEGIN:VCALENDAR
VERSION:2.0
PRODID:https://github.com/derhansen/sf_event_mgt
METHOD:PUBLISH
BEGIN:VEVENT
UID:14783-611@www.maine-et-loire.fr
CLASS: PUBLIC
SUMMARY:Les sternes de Loire
DESCRIPTION:Dans le cadre des Rendez-vous nature 2026.\n\nAu bord de ce fle
 uve emblématique, découvrez les espèces qui reviennent nicher chez nous
  à la belle saison. Les connaissez-vous vraiment ? Apprenez à différenc
 ier les sternes des autres oiseaux et découvrez leurs habitudes de vie.
LOCATION:Port Maillard
La Daguenière
DTSTAMP:20260209T153203Z
DTSTART:20260613T115539Z
DTEND:20260613T115539Z
END:VEVENT
END:VCALENDAR