BEGIN:VCALENDAR
VERSION:2.0
PRODID:https://github.com/derhansen/sf_event_mgt
METHOD:PUBLISH
BEGIN:VEVENT
UID:15304-569@www.maine-et-loire.fr
CLASS: PUBLIC
SUMMARY:Les Zygomatiks fêtent leurs 21 ans
DESCRIPTION:Pour fêter leurs 21 ans, la troupe de théâtre d’improvisat
 ion angevine des Zygomatiks organise une grande fête à la maison du quar
 tier du Quart’Ney le samedi 25 avril.\n\nAu programme :\n\n4 spectacles 
 réunissant les différentes générations des Zygomatiks ;\n\nDes animati
 ons et surprises pendant toute l’après-midi et la soirée.
LOCATION:Le Quart'Ney
5 rue Ernest Eugène Duboys
DTSTAMP:20260409T081414Z
DTSTART:20260424T220000Z
DTEND:20260424T220000Z
END:VEVENT
END:VCALENDAR