BEGIN:VCALENDAR
VERSION:2.0
PRODID:https://github.com/derhansen/sf_event_mgt
METHOD:PUBLISH
BEGIN:VEVENT
UID:14247-569@www.maine-et-loire.fr
CLASS: PUBLIC
SUMMARY:L'Iliade - Cie Bravache
DESCRIPTION:Connaissez-vous l’histoire de l’Iliade ? La bataille acharn
 ée des Achéens contre les Troyens ? L’amour impossible d’Hélène et
  Pâris ? L'ingéniosité d’Ulysse ? La force d’Achille ? La sensibili
 té de Patrocle ?\n\nPleine de bonne volonté et avec les moyens du bord, 
 la compagnie Bravache lance le chronomètre pour vous faire revivre la vé
 ritable histoire de la terrible guerre de Troie. Quand les dieux et déess
 es de l’Olympe s’amusent des mortels, le sang coule à flot et les pas
 sions se déchaînent.\n\nEt n’oublions pas que tout ça part d’une po
 mme !
LOCATION:Les Arènes
Rue des Arènes
DTSTAMP:20260105T154831Z
DTSTART:20260524T220000Z
DTEND:20260524T220000Z
END:VEVENT
END:VCALENDAR