BEGIN:VCALENDAR
VERSION:2.0
PRODID:https://github.com/derhansen/sf_event_mgt
METHOD:PUBLISH
BEGIN:VEVENT
UID:13889-570@www.maine-et-loire.fr
CLASS: PUBLIC
SUMMARY:L'iliade
DESCRIPTION:Pour leur première création à l’énergie débordante, les 
 4 interprètes de la Cie Bravache enchaînent à toute allure chant, danse
 , cascades, effets spéciaux, faux ratages et vrais dérapages.
LOCATION:En extérieur - Saint-Jean-Des-Mauvrets
DTSTAMP:20250724T141152Z
DTSTART:20260509T220000Z
DTEND:20260509T220000Z
END:VEVENT
END:VCALENDAR