BEGIN:VCALENDAR
VERSION:2.0
PRODID:https://github.com/derhansen/sf_event_mgt
METHOD:PUBLISH
BEGIN:VEVENT
UID:14802-611@www.maine-et-loire.fr
CLASS: PUBLIC
SUMMARY:L'ingénieur de Saint-Nicolas
DESCRIPTION:Dans le cadre des Rendez-vous nature 2026.\n\nSuivez la trace d
 u plus grand jardinier ingénieur de nos rivières, le Castor d'Europe. Vo
 us en apprendrez plus sur cet animal emblématique et historique du territ
 oire.
LOCATION:Allée de la Haloperie
DTSTAMP:20260209T153346Z
DTSTART:20260708T115539Z
DTEND:20260708T115539Z
END:VEVENT
END:VCALENDAR