BEGIN:VCALENDAR
VERSION:2.0
PRODID:https://github.com/derhansen/sf_event_mgt
METHOD:PUBLISH
BEGIN:VEVENT
UID:14882-611@www.maine-et-loire.fr
CLASS: PUBLIC
SUMMARY:L'insectarium
DESCRIPTION:Dans le cadre des Rendez-vous nature 2026.\n\nLa cigale chante,
  le Grand-Paon de nuit voltige, la sauterelle verte bruisse. Un microcosme
  paisible en apparence... Mais méfiance! La réalité est tout autre... A
 vec l’Insectarium, pénétrez dans un monde grouillant, rampant et déto
 nnant ! Subjugués par la plume de Jean-Henri Fabre et captivés par la mu
 sique de Christopher Lacassagne, vous allez découvrir le monde fascinant 
 des insectes. Sur scène, sept musiciens et un comédien vont à la rencon
 tre de ces petites bêtes et nous livrent un spectacle poétique, drôle e
 t sans concession.
LOCATION:Maison de l'environnement
DTSTAMP:20260209T154331Z
DTSTART:20260920T115540Z
DTEND:20260920T115540Z
END:VEVENT
END:VCALENDAR