BEGIN:VCALENDAR
VERSION:2.0
PRODID:https://github.com/derhansen/sf_event_mgt
METHOD:PUBLISH
BEGIN:VEVENT
UID:14893-611@www.maine-et-loire.fr
CLASS: PUBLIC
SUMMARY:L'odyssée de l'espace naturel
DESCRIPTION:Dans le cadre des Rendez-vous nature 2026.\n\nQuelle est donc c
 ette espèce extraordinaire qui vit dans cet espace naturel sensible ? Une
  espèce en voie de disparition ou d'apparition ? Omer, Youtubeur sérieus
 ement dépassé, nous embarque dans une drôle d'Odyssée à sa recherche.
 ..Une façon à la fois humoristique et musicale de se questionner sur les
  rapports que nous entretenons avec nos espaces naturels, avec ce qui nous
  est sensible.
LOCATION:Chemin du port
DTSTAMP:20260209T154433Z
DTSTART:20260926T115540Z
DTEND:20260926T115540Z
END:VEVENT
END:VCALENDAR