BEGIN:VCALENDAR
VERSION:2.0
PRODID:https://github.com/derhansen/sf_event_mgt
METHOD:PUBLISH
BEGIN:VEVENT
UID:14958-569@www.maine-et-loire.fr
CLASS: PUBLIC
SUMMARY:Lutherie éphémère : Musique dans et avec la nature
DESCRIPTION:Animation 123 balades ! de l'association Horizon Bocage.\n\nOn 
 repère, on cueille, on construit son instruments à partir d'éléments d
 e la nature , on joue, et quand ça ne marche plus, on recommence...\n\nCe
 tte musique fugitive donne l'occasion d'observer, de comprendre, et de res
 pecter la nature qui nous entoure !
LOCATION:4 chemin de la Fontaine
Domaine culturel
Saint Lézin
DTSTAMP:20260123T145117Z
DTSTART:20260529T220000Z
DTEND:20260529T220000Z
END:VEVENT
END:VCALENDAR