BEGIN:VCALENDAR
VERSION:2.0
PRODID:https://github.com/derhansen/sf_event_mgt
METHOD:PUBLISH
BEGIN:VEVENT
UID:11565-569@www.maine-et-loire.fr
CLASS: PUBLIC
SUMMARY:Marathon de la Loire
DESCRIPTION:Dans un environnement incomparable, classé au Patrimoine Mondi
 al de l’UNESCO, le Marathon de la Loire vous accueille, pour sa sixième
  édition, le dimanche 5 mai 2024. Implanté au cœur d’une région acqu
 ise à la cause de la pratique de la course à pied en compétition, le Ma
 rathon de la Loire vous invite à vivre une expérience unique au cœur du
  saumurois.\n\nEmpruntant les voies de la « vieille Levée » et sillonna
 nt les bords du Fleuve Royal, le parcours du Marathon de la Loire vous mè
 ne à la découverte d’une sélection des plus beaux sites ligériens. E
 ntre Loire, anciens villages de mariniers et troglodytes, élancez-vous à
  la découverte d’un panorama et d’un patrimoine d’exception !
LOCATION:Place de la république - 49400 SAUMUR
DTSTAMP:20240426T081814Z
DTSTART:20240504T220000Z
DTEND:20240504T220000Z
END:VEVENT
END:VCALENDAR