BEGIN:VCALENDAR
VERSION:2.0
PRODID:https://github.com/derhansen/sf_event_mgt
METHOD:PUBLISH
BEGIN:VEVENT
UID:13926-569@www.maine-et-loire.fr
CLASS: PUBLIC
SUMMARY:Marathon de la Loire
DESCRIPTION:Dans un environnement incomparable, classé au Patrimoine Mondi
 al de l’UNESCO, le Marathon de la Loire vous accueille pour une nouvelle
  édition.\n\n3 épreuves vous sont proposées dans une ambiance unique :\
 n\n 	42,195 km - marathon individuel \n\nMarathon le plus roulant de Franc
 e, le parcours évolue dans un environnement incomparable, classé au Patr
 imoine Mondial de l’UNESCO. Pour défier le chrono, les 5 000 participan
 ts attendus s’engageront sur un parcours touristique à typologie bord d
 e Loire.\n\n 	21,100 km - semi-marathon \n\nPrès de 3 500 coureurs sont a
 ttendus pour cette édition du semi-marathon. Coureur encore un peu novice
  ou vrai adepte du bitume, le Semi-Marathon est la distance idéale. 21,10
 0 km pour vivre une expérience unique et riche en émotions. Seul, en fam
 ille ou entre amis, le Semi-Marathon est une réelle épreuve sportive qui
  éveille satisfaction et goût du challenge.\n\n 	12 km - 17 km - Le Comb
 iné Canoë (12 km course à pied en duo 17 km) \n\nUne épreuve unique da
 ns un paysage exceptionnel ! Avec la Loire comme principal terrain de jeu,
  le duo descendra 12 km sur le plus grand fleuve royal en canoë et termin
 era par 17 km de course à pied.\n\nEntre Loire, anciens villages marinier
 s et troglodytes, élancez-vous à la découverte d'un panorama et d'un pa
 trimoine d'exception ! Franchissez l’excellence et rejoignez le peloton 
 !
LOCATION:Place de la République
DTSTAMP:20250801T091618Z
DTSTART:20260509T220000Z
DTEND:20260509T220000Z
END:VEVENT
END:VCALENDAR