BEGIN:VCALENDAR
VERSION:2.0
PRODID:https://github.com/derhansen/sf_event_mgt
METHOD:PUBLISH
BEGIN:VEVENT
UID:14245-569@www.maine-et-loire.fr
CLASS: PUBLIC
SUMMARY:Matt et Moi - Cie Émoi
DESCRIPTION:Entre auto-fiction et témoignage, Carole Bordes raconte sa ren
 contre avec un Maître qui a profondément marqué son parcours et celui d
 e générations de danseurs.\n\nComplices, les deux interprètes s'accompa
 gnent et se répondent entre musique et danse, convoquant l’essence de l
 a culture jazz. Une troisième présence plane sur ce duo, celle de Matt M
 attox.\n\nPlus qu’un hommage, la chorégraphe célèbre ici ses retrouva
 illes avec la gestuelle Mattox, la confronte au regard de sa contemporané
 ité et dessine les perspectives de celle-ci dans le paysage chorégraphiq
 ue d’aujourd’hui.
LOCATION:Théâtre Philippe Noiret
Place des Fontaines
DTSTAMP:20260105T102816Z
DTSTART:20260427T220000Z
DTEND:20260427T220000Z
END:VEVENT
END:VCALENDAR