BEGIN:VCALENDAR
VERSION:2.0
PRODID:https://github.com/derhansen/sf_event_mgt
METHOD:PUBLISH
BEGIN:VEVENT
UID:14786-611@www.maine-et-loire.fr
CLASS: PUBLIC
SUMMARY:Mercredi Ã  histoires en forÃªt
DESCRIPTION:Dans le cadre des Rendez-vous nature 2026.\n\nÃ€ l'occasion des
  Nuits des ForÃªts, bercÃ©s par le son des feuilles et imprÃ©gnÃ©s par les
  odeurs de la forÃªt, plongez avec vos enfants dans la nature au travers d
 es petites histoires et comptines sur le thÃ¨me Â« Les cÃ¢lins tout doux Â
 ».\n\nPour les 0 Ã  4 ans. PrÃ©voir des vÃªtements adaptÃ©s Ã  la mÃ©tÃ©o.
LOCATION:Carrefour du Roi RenÃ©
Le GuÃ©deniau
DTSTAMP:20260209T153219Z
DTSTART:20260617T115539Z
DTEND:20260617T115539Z
END:VEVENT
END:VCALENDAR