BEGIN:VCALENDAR
VERSION:2.0
PRODID:https://github.com/derhansen/sf_event_mgt
METHOD:PUBLISH
BEGIN:VEVENT
UID:14795-611@www.maine-et-loire.fr
CLASS: PUBLIC
SUMMARY:Mission Castor Express
DESCRIPTION:Dans le cadre des Rendez-vous nature 2026.\n\nVenez découvrir 
 les mystères de la rivière et du castor en vous mettant à sa place et e
 n voguant au fil de l’eau.\n\nLes enfants doivent être accompagnés. Pr
 évoir un couvre-chef et des bouteilles d’eau.
LOCATION:Base nautique des Onglées
DTSTAMP:20260209T153308Z
DTSTART:20260704T115539Z
DTEND:20260704T115539Z
END:VEVENT
END:VCALENDAR