BEGIN:VCALENDAR
VERSION:2.0
PRODID:https://github.com/derhansen/sf_event_mgt
METHOD:PUBLISH
BEGIN:VEVENT
UID:14812-611@www.maine-et-loire.fr
CLASS: PUBLIC
SUMMARY:Mission Pollinisation
DESCRIPTION:Dans le cadre des Rendez-vous nature 2026.\n\nMission Pollinisa
 tion : nos alliÃ©s ailÃ©s vous attendent ! Les pollinisateurs sont les hÃ©
 ros discrets de notre nature, essentiels Ã  la survie de nombreuses plante
 s. Venez les rencontrer ! Au programme : observation, identification et rÃ
 ´le Ã©cologique. Du bourdon trapu Ã  la petite abeille sauvage, apprenez Ã
   reconnaÃ®tre ces prÃ©cieux alliÃ©s directement sur le terrain. DÃ©couvre
 z leur rÃ´le Ã©cologique fondamental ! Vous mettrez en place le protocole 
 participatif SPIPOLL (Suivi Photographique des Insectes POLLinisateurs). C
 'est l'introduction idÃ©ale aux sciences citoyennes, oÃ¹ vos photos contri
 buent directement Ã  une base de donnÃ©es nationale cruciale. Au cÅ“ur de 
 l'Ã©tÃ©, prÃ©parez-vous Ã  des observations riches en vie ! Curieux de nat
 ure ou naturaliste averti, cette initiation est faite pour vous !
LOCATION:MÃ©diathÃ¨que Saint-ExupÃ©ry
1 rue Charles de Gaulle
DTSTAMP:20260209T153458Z
DTSTART:20260711T115539Z
DTEND:20260711T115539Z
END:VEVENT
END:VCALENDAR