BEGIN:VCALENDAR
VERSION:2.0
PRODID:https://github.com/derhansen/sf_event_mgt
METHOD:PUBLISH
BEGIN:VEVENT
UID:14833-611@www.maine-et-loire.fr
CLASS: PUBLIC
SUMMARY:Mon ami le lierre
DESCRIPTION:Dans le cadre des Rendez-vous nature 2026.\n\nLe lierre est une
  plante merveilleuse et pourtant tellement mal aimÃ©e. Une balade commentÃ
 ©e qui mÃªle conte et botanique, suivie par deux ateliers : tressage et fa
 brication de cosmÃ©tique Ã  base de lierre.
LOCATION:Parking communal, face au 2147 Chambiers
DTSTAMP:20260209T153725Z
DTSTART:20260806T115539Z
DTEND:20260806T115539Z
END:VEVENT
END:VCALENDAR