BEGIN:VCALENDAR
VERSION:2.0
PRODID:https://github.com/derhansen/sf_event_mgt
METHOD:PUBLISH
BEGIN:VEVENT
UID:14735-611@www.maine-et-loire.fr
CLASS: PUBLIC
SUMMARY:Murmures de la rivière
DESCRIPTION:Dans le cadre des Rendez-vous nature 2026.\n\nBilan santé de l
 a rivière. Écoutez la rivière vous parler… Lors d’une balade sensor
 ielle, découvrez sa santé, sa vie cachée et ses secrets au fil de l’e
 au. Un moment d’écoute, de nature et de découverte.
LOCATION:Parc du Montatais
Jallais
DTSTAMP:20260209T152501Z
DTSTART:20260523T115539Z
DTEND:20260523T115539Z
END:VEVENT
END:VCALENDAR