BEGIN:VCALENDAR
VERSION:2.0
PRODID:https://github.com/derhansen/sf_event_mgt
METHOD:PUBLISH
BEGIN:VEVENT
UID:15311-612@www.maine-et-loire.fr
CLASS: PUBLIC
SUMMARY:Nature en Ville
DESCRIPTION:La délégation territoriale ARS, la CPAM, la MSA et le Départ
 ement de Maine-et-Loire ont le plasir de vous convier à la journée  : 
  Santé & Territoires : rencontre des partenaires et collectivités - Se 
 rencontrer pour mieux collaborer\n\nCette rencontre, à l’attention des 
 élus, agents des collectivités, des institutions et organisation en sant
 é de Maine-et-Loire, vous est proposée dans le cadre du Réseau Anjou In
 génierie territoriale. N'hésitez pas à diffuser l'information.\n\nAu pr
 ogramme  :\n\n9h15 - 9h30 : Accueil des participants et ouverture de la 
 rencontre ; par les représentants du Département de Maine-et-Loire et de
  la Délégation Territoriale ARS de Maine-et-Loire\n\n9h30 - 10h40 : Ecos
 ystème de la santé en Maine-et-Loire : compétences, missions et gouvern
 ance des inastitutions et organisations locales ; éclairages proposés p
 ar la Délégation Territoriale ARS de Maine-et-Loire, La Caisse Primaire 
 d'Assurance Maladie, La Mutualité Sociale Agricole, les coordinatrices de
  Contrats locaux de Santé et de Communautés Professionnelles Territorial
 es de Santé et le Département de Maine-et-Loire\n\n11h00 - 12h30 : Atel
 ier collaboratif autour d'un projet local de santé : comprendre collectiv
 ement les besoins et identifier les leviers d'actions, partenariats et acc
 ompagnements possibles ; par la commune de Loire Authion et le Départemen
 t de Maine-et-Loire \n\n12h30 - 14h : Repas convivial pour prolonger l'i
 nterconnaissance
LOCATION:
DTSTAMP:20260415T111115Z
DTSTART:20260617T070000Z
DTEND:20260617T123000Z
END:VEVENT
END:VCALENDAR