BEGIN:VCALENDAR
VERSION:2.0
PRODID:https://github.com/derhansen/sf_event_mgt
METHOD:PUBLISH
BEGIN:VEVENT
UID:14811-611@www.maine-et-loire.fr
CLASS: PUBLIC
SUMMARY:Navigation sur la Mayenne
DESCRIPTION:Dans le cadre des Rendez-vous nature 2026.\n\nLa Mayenne vous o
 uvre ses flots, les écluses ponctuent votre balade nautique et les berges
  dévoilent leurs secrets ! Une expérience unique pour découvrir la faun
 e et la flore de nos Basses vallées angevines.
LOCATION:1 Route de la Mayenne
DTSTAMP:20260209T153453Z
DTSTART:20260711T115539Z
DTEND:20260711T115539Z
END:VEVENT
END:VCALENDAR