BEGIN:VCALENDAR
VERSION:2.0
PRODID:https://github.com/derhansen/sf_event_mgt
METHOD:PUBLISH
BEGIN:VEVENT
UID:14741-611@www.maine-et-loire.fr
CLASS: PUBLIC
SUMMARY:Nettoyons les rives de l'Hyrôme
DESCRIPTION:Dans le cadre des Rendez-vous nature 2026.\n\nProfitons d'un ni
 veau d'eau faible sur la rivière pour pouvoir aller récupérer les déch
 ets véhiculés par l'eau et coincés dans le lit de la rivière. Ce sera 
 aussi l'occasion de savoir plus sur sa biodiversité avec un spécialiste 
 « nature ».
LOCATION:Château en face du parking de l'ancien camping
DTSTAMP:20260209T152534Z
DTSTART:20260527T115539Z
DTEND:20260527T115539Z
END:VEVENT
END:VCALENDAR