BEGIN:VCALENDAR
VERSION:2.0
PRODID:https://github.com/derhansen/sf_event_mgt
METHOD:PUBLISH
BEGIN:VEVENT
UID:14801-611@www.maine-et-loire.fr
CLASS: PUBLIC
SUMMARY:Nos amis lÃ©pidoptÃ¨res
DESCRIPTION:Dans le cadre des Rendez-vous nature 2026.\n\nLa ferme de la Ch
 auffetiÃ¨re est une RÃ©serve naturelle rÃ©gionale de 30 hectares. Venez dÃ
 ©couvrir la diversitÃ© des papillons qui y habitent, des insectes fascinan
 ts de par leurs couleurs et leur lÃ©gÃ¨retÃ©. Plongez dans une aventure ca
 ptivante, d'observation et d'identification de ces merveilleux insectes.
LOCATION:RÃ©serve de la ChauffetiÃ¨re
Drain
DTSTAMP:20260209T153341Z
DTSTART:20260708T115539Z
DTEND:20260708T115539Z
END:VEVENT
END:VCALENDAR