BEGIN:VCALENDAR
VERSION:2.0
PRODID:https://github.com/derhansen/sf_event_mgt
METHOD:PUBLISH
BEGIN:VEVENT
UID:14794-611@www.maine-et-loire.fr
CLASS: PUBLIC
SUMMARY:Nos chères plantes mal-aimées
DESCRIPTION:Dans le cadre des Rendez-vous nature 2026.\n\nElles piquent, gr
 attent, envahissent les jardins... Et pourtant, elles sont source de bien 
 des services ! Redécouvrez les plantes mal-aimées lors d'une sortie déd
 iée à leur bons côtés, pour apprendre à moins les détester, et les u
 tiliser au quotidien.
LOCATION:L'Engrenage-Moulin
Villevêque
DTSTAMP:20260209T153303Z
DTSTART:20260628T115539Z
DTEND:20260628T115539Z
END:VEVENT
END:VCALENDAR