BEGIN:VCALENDAR
VERSION:2.0
PRODID:https://github.com/derhansen/sf_event_mgt
METHOD:PUBLISH
BEGIN:VEVENT
UID:14805-611@www.maine-et-loire.fr
CLASS: PUBLIC
SUMMARY:Nuit de la chauve-souris
DESCRIPTION:Dans le cadre des Rendez-vous nature 2026.\n\nÀ l'occasion de 
 la nuit internationale de la chauve-souris, la LPO vous propose de venir d
 écouvrir le mode de vie des petites boules de poil volantes qui vivent au
 tour de nous. Puis à la tombée de la nuit, vous partirez à l'écoute de
 s ultra sons à l'aide d'un détecteur...\n\nPrévoir des chaussures de ma
 rche et des vêtements adaptés à la météo.
LOCATION:Camping du pont des fées
Baugé
DTSTAMP:20260209T153402Z
DTSTART:20260709T115539Z
DTEND:20260709T115539Z
END:VEVENT
END:VCALENDAR