BEGIN:VCALENDAR
VERSION:2.0
PRODID:https://github.com/derhansen/sf_event_mgt
METHOD:PUBLISH
BEGIN:VEVENT
UID:15095-570@www.maine-et-loire.fr
CLASS: PUBLIC
SUMMARY:Objectif trésor !
DESCRIPTION:Parcourez le parcours de motricité, testez vos talents dans le
 s jeux d’adresse, aventurez vous dans le labyrinthe et résolvez les én
 igmes… chaque activité mettra votre esprit d’équipe à l’épreuve.
LOCATION:2 rue des fontaines
Châteauneuf-sur-Sarthe
DTSTAMP:20260216T075802Z
DTSTART:20260409T220000Z
DTEND:20260409T220000Z
END:VEVENT
END:VCALENDAR