BEGIN:VCALENDAR
VERSION:2.0
PRODID:https://github.com/derhansen/sf_event_mgt
METHOD:PUBLISH
BEGIN:VEVENT
UID:14752-611@www.maine-et-loire.fr
CLASS: PUBLIC
SUMMARY:Oiseaux de la Mayenne
DESCRIPTION:Dans le cadre des Rendez-vous nature 2026.\n\nAu bord de la May
 enne, venez observer les espèces qui reviennent de leur lointain voyage. 
 À l'aide de paires de jumelles et de guides testez-vous à l'identificati
 on des oiseaux de nos campagnes.
LOCATION:Port Albert
DTSTAMP:20260209T152658Z
DTSTART:20260530T115539Z
DTEND:20260530T115539Z
END:VEVENT
END:VCALENDAR