BEGIN:VCALENDAR
VERSION:2.0
PRODID:https://github.com/derhansen/sf_event_mgt
METHOD:PUBLISH
BEGIN:VEVENT
UID:14739-611@www.maine-et-loire.fr
CLASS: PUBLIC
SUMMARY:Oiseaux invisibles des Basses vallées angevines
DESCRIPTION:Dans le cadre des Rendez-vous nature 2026.\n\nPartez à la déc
 ouverte des petits oiseaux invisibles des Basses vallées angevines. Tarie
 r des prés, Bergeronnette printanière, Phragmite des joncs, Rousserole e
 ffarvatte... Ils n'auront plus de secrets pour vous.
LOCATION:L'Engrenage-Moulin
Villevêque
DTSTAMP:20260209T152523Z
DTSTART:20260524T115539Z
DTEND:20260524T115539Z
END:VEVENT
END:VCALENDAR