BEGIN:VCALENDAR
VERSION:2.0
PRODID:https://github.com/derhansen/sf_event_mgt
METHOD:PUBLISH
BEGIN:VEVENT
UID:14708-611@www.maine-et-loire.fr
CLASS: PUBLIC
SUMMARY:Oiseaux nicheurs du marais
DESCRIPTION:Dans le cadre des Rendez-vous nature 2026.\n\nAvec le retour du
  printemps, certaines espèces d'oiseaux reviennent pour nicher. Le marais
  de Montreuil-Juigné est un site où l'on à la chance de pouvoir observe
 r des canards, des grèbes, et bien plus encore. Partez à leur rencontre 
 avec une guide de la LPO.
LOCATION:Aire de camping-car
DTSTAMP:20260209T152142Z
DTSTART:20260501T115539Z
DTEND:20260501T115539Z
END:VEVENT
END:VCALENDAR