BEGIN:VCALENDAR
VERSION:2.0
PRODID:https://github.com/derhansen/sf_event_mgt
METHOD:PUBLISH
BEGIN:VEVENT
UID:14698-611@www.maine-et-loire.fr
CLASS: PUBLIC
SUMMARY:Oiseaux remarquables
DESCRIPTION:Dans le cadre des Rendez-vous nature 2026.\n\nAu printemps, la 
 forêt s'anime doucement. À leur retour d'Afrique, les différentes espè
 ces de pouillots prennent leurs quartiers dans la forêt et défendent leu
 r territoire en chantant. Apprenez à les reconnaître et tentez de rencon
 trer les rares Pouillots siffleurs et Pouillots de Bonelli.
LOCATION:Parking communal, face au 2147 Chambiers
DTSTAMP:20260209T151251Z
DTSTART:20260424T115539Z
DTEND:20260424T115539Z
END:VEVENT
END:VCALENDAR