BEGIN:VCALENDAR
VERSION:2.0
PRODID:https://github.com/derhansen/sf_event_mgt
METHOD:PUBLISH
BEGIN:VEVENT
UID:14292-570@www.maine-et-loire.fr
CLASS: PUBLIC
SUMMARY:On fÃªte l'Ã©tÃ© en musique avec Ben Armessen
DESCRIPTION:AccompagnÃ© de sa guitare, il traverse les nombreux styles quâ€
 ™il affectionne : folk, chanson franÃ§aise, rap, reggae, hits anglo-saxons
 , compositions personnelles...
LOCATION:BibliothÃ¨que Maison Rouge
13 rue Victor Hugo
DTSTAMP:20260108T104805Z
DTSTART:20260618T220000Z
DTEND:20260618T220000Z
END:VEVENT
END:VCALENDAR