BEGIN:VCALENDAR
VERSION:2.0
PRODID:https://github.com/derhansen/sf_event_mgt
METHOD:PUBLISH
BEGIN:VEVENT
UID:14192-569@www.maine-et-loire.fr
CLASS: PUBLIC
SUMMARY:OpÃ©ra Robinson CrusoÃ© en audiodescription (Jacques Offenbach)
DESCRIPTION:Le compositeur, Jacques Offenbach, avait voulu se moquer de lâ€
 ™exotisme et du goÃ»t immodÃ©rÃ© des Britanniques pour le colonialisme. On
  peut faire confiance au metteur en scÃ¨ne Laurent Pelly pour prendre Ã  c
 ontrepied la lÃ©gende de Robinson CrusoÃ©. Une vraie partie de plaisir, ma
 is non sans bouffÃ©es de tendresse et de nostalgie. Accueilli en triomphe 
 au ThÃ©Ã¢tre des Champs-ElysÃ©es Ã  Paris l'hiver 2025, Robinson CrusoÃ© j
 ette l'ancre au Grand ThÃ©Ã¢tre d'Angers le dimanche 10 mai 2026.\n\nEn am
 ont du spectacle, nous vous proposerons une mÃ©diation adaptÃ©e pour dÃ©co
 uvrir la scÃ©nographie exceptionnelle rÃ©alisÃ©e par les ateliers d'Angers
  Nantes OpÃ©ra.
LOCATION:Grand ThÃ©Ã¢tre
Place du Ralliement
DTSTAMP:20251215T095200Z
DTSTART:20260509T220000Z
DTEND:20260509T220000Z
END:VEVENT
END:VCALENDAR