BEGIN:VCALENDAR
VERSION:2.0
PRODID:https://github.com/derhansen/sf_event_mgt
METHOD:PUBLISH
BEGIN:VEVENT
UID:15231-1587@www.maine-et-loire.fr
CLASS: PUBLIC
SUMMARY:Opus 13
DESCRIPTION:Pour ce premier festival musical À contretemps au Dôme et sur
  le territoire, vous aurez la chance d’entendre en ouverture le brillant
  quatuor à cordes suédo-norvégien Opus13, premier prix au concours inte
 rnational de quatuor à cordes à Cordes de Wigmore Hall en 2025, et premi
 er prix du concours international de quatuor à cordes de Bordeaux la mêm
 e année.\n\nSalué pour sa vitalité, sa sensibilité artistique et la ri
 chesse de sa palette sonore, ce jeune quatuor suscite l’enthousiasme tan
 t du public que de la critique.\n\nOrganisé en partenariat avec Vibre ! F
 estival & Concours International de Quatuor à Cordes de Bordeaux, ce prog
 ramme présentera des œuvres telles que La Jeune fille et la mort de Schu
 bert, le quatuor n°15 de Mozart ou encore quatuor opus 13 n° 2 de Mendel
 ssohn. Avec la participation de l’École de musique de Saumur Val de Loi
 re.
LOCATION:Théâtre Le Dôme 
Place Bilange
DTSTAMP:20260325T103356Z
DTSTART:20260530T123000Z
DTEND:20260530T134500Z
END:VEVENT
END:VCALENDAR