BEGIN:VCALENDAR
VERSION:2.0
PRODID:https://github.com/derhansen/sf_event_mgt
METHOD:PUBLISH
BEGIN:VEVENT
UID:14897-611@www.maine-et-loire.fr
CLASS: PUBLIC
SUMMARY:Parcours « Au fil de l'arbre »
DESCRIPTION:Dans le cadre des Rendez-vous nature 2026.\n\nLes arbres du boc
 age et immersion gustative : au cœur d’un milieu naturel, venez pour c
 omprendre la vie des arbres : le plus vieil être vivant de la planète, a
 vec Gilles Galopin, Docteur en biologie végétale spécialisé sur le dia
 gnostic de l’arbre et conférencier au niveau national. Comment peut-il 
 vivre plus de 1 000 ans, quels sont ses secrets, quelles sont ses fragilit
 és ? Après cette immersion, une dégustation de boisson à base d’hyd
 rolats de la ferme de « La Monnière » vous sera proposée !
LOCATION:La Haute Filotière
La Meignagne
DTSTAMP:20260209T154457Z
DTSTART:20261004T115540Z
DTEND:20261004T115540Z
END:VEVENT
END:VCALENDAR