BEGIN:VCALENDAR
VERSION:2.0
PRODID:https://github.com/derhansen/sf_event_mgt
METHOD:PUBLISH
BEGIN:VEVENT
UID:14343-569@www.maine-et-loire.fr
CLASS: PUBLIC
SUMMARY:Partez à la découverte des oiseaux et leurs chants
DESCRIPTION:Animation 123 jardin! de l'association Horizon Bocage\n\nÀ la 
 rencontre des oiseaux communs et moins communs de Chemillé. Identificatio
 n avec les yeux, des jumelles et si on ne les voit pas … avec leurs chan
 ts.\n\nInscrivez-vous au 07 67 49 03 82 ou par mail à horizonbocage@gmail
 .com 
LOCATION:Chemillé (lieu précisé ultérieurement)
DTSTAMP:20260120T113450Z
DTSTART:20260605T220000Z
DTEND:20260605T220000Z
END:VEVENT
END:VCALENDAR