BEGIN:VCALENDAR
VERSION:2.0
PRODID:https://github.com/derhansen/sf_event_mgt
METHOD:PUBLISH
BEGIN:VEVENT
UID:15005-569@www.maine-et-loire.fr
CLASS: PUBLIC
SUMMARY:Pause-concert septuor cordes, vents et clavecin
DESCRIPTION:Entre midi et deux, offrez-vous le temps d’une pause musicale
 . Ces petits concerts concoctés par les musiciens de l'Orchestre National
  des Pays de la Loire revisitent le répertoire symphonique et de musique 
 de chambre. Un moment unique de détente et de découverte à partager ent
 re collègues ou entre amis.\n\nDéroulé de l'événement :\n\nJean-Phili
 ppe Rameau : Pièces pour clavecin extraites des livres 6, 1 et 2\n\n(arra
 ngements de Camille Saint-Saëns)\n\nSabine Gabbé et Claire Aladjem, viol
 ons\n\nHélène Malle, alto\n\nEmilie Coraboeuf, violoncelle\n\nAmélie Fe
 ihl, flûte\n\nJean Detraz, basson\n\nManami Haraguchi, clavecin
LOCATION:Centre de Congrès d'Angers 
33 Boulevard Carnot
DTSTAMP:20260130T084943Z
DTSTART:20260511T220000Z
DTEND:20260511T220000Z
END:VEVENT
END:VCALENDAR