BEGIN:VCALENDAR
VERSION:2.0
PRODID:https://github.com/derhansen/sf_event_mgt
METHOD:PUBLISH
BEGIN:VEVENT
UID:15054-1587@www.maine-et-loire.fr
CLASS: PUBLIC
SUMMARY:Pause-Concert Septuor Cordes & Vents
DESCRIPTION:Entre midi et deux, offrez-vous le temps d’une pause musicale
 . Ces petits concerts concoctés par les musiciens de l'Orchestre National
  des Pays de la Loire revisitent le répertoire symphonique et de musique 
 de chambre. Un moment unique de détente et de découverte à partager ent
 re collègues ou entre amis.\n\nAu programme : Gioachino Rossini | Sonata 
 pour cordes n°1 (Quatuor à cordes) Richard Strauss | Till l'espiègle (Q
 uintette pour violon, clarinette, basson, cor et contrebasse - arrangement
  de Franz Hasehörl) Max Bruch | Septuor op. Posthume Daniel Ispas et Séb
 astien Christmann, violons Justine Pierre, violoncelle Andrès Fernandez-S
 ubiela, contrebasse Maguy Giraud, clarinette Ignacio Echepare, basson Davi
 d Macé, cor
LOCATION:Centre de Congrès d'Angers
33 Boulevard Carnot
DTSTAMP:20260203T103231Z
DTSTART:20260212T113000Z
DTEND:20260212T123000Z
END:VEVENT
END:VCALENDAR