BEGIN:VCALENDAR
VERSION:2.0
PRODID:https://github.com/derhansen/sf_event_mgt
METHOD:PUBLISH
BEGIN:VEVENT
UID:14746-611@www.maine-et-loire.fr
CLASS: PUBLIC
SUMMARY:Paysages à l'aquarelle
DESCRIPTION:Dans le cadre des Rendez-vous nature 2026.\n\nDéambulez pour c
 hoisir votre point de vue à croquer. Glanez au passage quelques plantes p
 our fabriquer vos couleurs. Observer, cueillir, transformer et dessiner le
 s bords de la Mayenne à l'aquarelle !
LOCATION:Port Albert
DTSTAMP:20260209T152603Z
DTSTART:20260530T115539Z
DTEND:20260530T115539Z
END:VEVENT
END:VCALENDAR