BEGIN:VCALENDAR
VERSION:2.0
PRODID:https://github.com/derhansen/sf_event_mgt
METHOD:PUBLISH
BEGIN:VEVENT
UID:14846-611@www.maine-et-loire.fr
CLASS: PUBLIC
SUMMARY:Paysages du Layon
DESCRIPTION:Dans le cadre des Rendez-vous nature 2026.\n\nLes paysages du L
 ayon sont façonnés par la géologie, mais aussi par des milliers d'anné
 es de présence humaine. Histoires naturelles, histoire humaine, déambule
 z avec la LPO Anjou et Augustin du Domaine Belargus pour appréhender ce p
 aysage plein de singularités.
LOCATION:Parking du Pont Barré
DTSTAMP:20260209T153856Z
DTSTART:20260819T115539Z
DTEND:20260819T115539Z
END:VEVENT
END:VCALENDAR