BEGIN:VCALENDAR
VERSION:2.0
PRODID:https://github.com/derhansen/sf_event_mgt
METHOD:PUBLISH
BEGIN:VEVENT
UID:14859-611@www.maine-et-loire.fr
CLASS: PUBLIC
SUMMARY:Petit botaniste
DESCRIPTION:Dans le cadre des Rendez-vous nature 2026.\n\nVenez découvrir 
 l’Espace naturel sensible de la Vallée des Robinets. De nombreuses plan
 tes y ont ancré leurs racines, mais les connaissez-vous vraiment ? Quoi 
 de mieux que d’utiliser des guides naturalistes pour les identifier et d
 écouvrir leurs bienfaits.
LOCATION:Château de La Turmelière
Liré
DTSTAMP:20260209T154120Z
DTSTART:20260826T115539Z
DTEND:20260826T115539Z
END:VEVENT
END:VCALENDAR