BEGIN:VCALENDAR
VERSION:2.0
PRODID:https://github.com/derhansen/sf_event_mgt
METHOD:PUBLISH
BEGIN:VEVENT
UID:14704-611@www.maine-et-loire.fr
CLASS: PUBLIC
SUMMARY:Pièces d'eaux
DESCRIPTION:Dans le cadre des Rendez-vous nature 2026.\n\nDans le cadre du 
 printemps du Thouet à Montreuil-Bellay, venez découvrir le spectacle « 
 Pièces d'eaux » de la compagnie Spectabilis. Une création poétique et 
 musicale qui permet de présenter de nouveaux récits sur la relation vita
 le que l’humanité entretient avec l’eau.
LOCATION:Port Sainte-Catherine
DTSTAMP:20260209T151322Z
DTSTART:20260426T115539Z
DTEND:20260426T115539Z
END:VEVENT
END:VCALENDAR